Workbook

Sheet 2025
A1: Milchpreissystem Mittelland Milch - Emmi 2026
A2: Erfassen Sie hier Ihre Mengen und Gehalte (gelbe Felder)
A3: Sammelstelle | B3: Nein | J3: Ja
B4: Menge | C4: Abfuhrtage | D4: Fett* | E4: Eiweiss* | J4: Nein
A5: 46023 | B5: 20000 | C5: 15 | D5: 0.04 | E5: 0.033
A6: 46054
A7: 46082
A8: 46113
A9: 46143
A10: 46174
A11: 46204
A12: 46235
A13: 46266
A14: 46296
A15: 46327
A16: 46357
A17: Total / Ø | B17: =SUM(B5:B16) -> 20000 | C17: =SUM(C5:C16) -> 15 | D17: =AVERAGE(D5:D16) -> 0.04 | E17: =AVERAGE(E5:E16) -> 0.033
A19: Jahresmenge Sammelplatz | C19: 182
B21: 46023 | D21: 46054 | F21: 46082 | H21: 46113 | J21: 46143 | L21: 46174 | N21: 46204 | P21: 46235 | R21: 46266 | T21: 46296 | V21: 46327 | X21: 46357 | Z21: Total
B22: Ansatz | C22: Preis | D22: Ansatz | E22: Preis | F22: Ansatz | G22: Preis | H22: Ansatz | I22: Preis | J22: Ansatz | K22: Preis | L22: Ansatz | M22: Preis | N22: Ansatz | O22: Preis | P22: Ansatz | Q22: Preis | R22: Ansatz | S22: Preis | T22: Ansatz | U22: Preis | V22: Ansatz | W22: Preis | X22: Ansatz | Y22: Preis
A23: A Preis | B23: 0.66 | C23: 74 | D23: 0.66 | E23: 70 | F23: 0.66 | G23: =E23 -> 70 | H23: 0.66 | I23: =G23 -> 70 | J23: =H23 -> 0.66 | K23: =I23 -> 70 | L23: =J23 -> 0.66 | M23: =K23 -> 70 | N23: =L23 -> 0.66 | O23: 70 | P23: =N23 -> 0.66 | Q23: 70 | R23: =P23 -> 0.66 | S23: 70 | T23: =R23 -> 0.66 | U23: 70 | V23: =T23 -> 0.66 | W23: 70 | X23: =V23 -> 0.66 | Y23: 70
A24: Prämie Grüner Teppich | B24: 0.66 | C24: 3 | D24: 0.66 | E24: 3 | F24: 0.66 | G24: 3 | H24: 0.66 | I24: 3 | J24: 0.66 | K24: 3 | L24: 0.66 | M24: 3 | N24: 0.66 | O24: 3 | P24: 0.66 | Q24: 3 | R24: 0.66 | S24: 3 | T24: 0.66 | U24: 3 | V24: 0.66 | W24: 3 | X24: 0.66 | Y24: 3
A25: B-Preis | B25: 0.29 | C25: 47.5 | D25: =1-D23-D26 -> 0.34 | F25: =1-F23-F26 -> 0.34 | G25: 0 | H25: =1-H23-H26 -> 0.34 | I25: 0 | J25: 0.34 | K25: 0 | L25: 0.34 | N25: =L25 -> 0.34 | P25: =N25 -> 0.34 | R25: =P25 -> 0.34 | T25: =R25 -> 0.34 | V25: =T25 -> 0.34 | X25: =V25 -> 0.34
A26: C-Preis | B26: 0.05 | C26: 34 | D26: 0 | F26: 0 | H26: 0 | J26: 0 | L26: 0 | N26: 0 | P26: 0 | R26: 0 | T26: 0 | V26: 0 | X26: 0
A27: Ø Basispreis | C27: =B23*C23+B24*C24+B25*C25+B26*C26 -> 66.295 | E27: =D23*E23+D24*E24+D25*E25+D26*E26 -> 48.18 | G27: =F23*G23+F24*G24+F25*G25+F26*G26 -> 48.18 | I27: =H23*I23+H24*I24+H25*I25+H26*I26 -> 48.18 | K27: =J23*K23+J24*K24+J25*K25+J26*K26 -> 48.18 | M27: =L23*M23+L24*M24+L25*M25+L26*M26 -> 48.18 | O27: =N23*O23+N24*O24+N25*O25+N26*O26 -> 48.18 | Q27: =P23*Q23+P24*Q24+P25*Q25+P26*Q26 -> 48.18 | S27: =R23*S23+R24*S24+R25*S25+R26*S26 -> 48.18 | U27: =T23*U23+T24*U24+T25*U25+T26*U26 -> 48.18 | W27: =V23*W23+V24*W24+V25*W25+V26*W26 -> 48.18 | Y27: =X23*Y23+X24*Y24+X25*Y25+X26*Y26 -> 48.18
A28: Marktabzüge | C28: -4.1 | E28: -4.1 | G28: =E28 -> -4.1 | I28: =G28 -> -4.1 | K28: =I28 -> -4.1 | M28: =K28 -> -4.1 | O28: -4.1 | Q28: =O28 -> -4.1 | S28: =Q28 -> -4.1 | U28: =S28 -> -4.1 | W28: =U28 -> -4.1 | Y28: =W28 -> -4.1
A29: Beitrag Sammelstelle | C29: =IF($B$3="Ja",0.5,0) -> 0 | E29: =IF($B$3="Ja",0.5,0) -> 0 | G29: =IF($B$3="Ja",0.5,0) -> 0 | I29: =IF($B$3="Ja",0.5,0) -> 0 | K29: =IF($B$3="Ja",0.5,0) -> 0 | M29: =IF($B$3="Ja",0.5,0) -> 0 | O29: =IF($B$3="Ja",0.5,0) -> 0 | Q29: =IF($B$3="Ja",0.5,0) -> 0 | S29: =IF($B$3="Ja",0.5,0) -> 0 | U29: =IF($B$3="Ja",0.5,0) -> 0 | W29: =IF($B$3="Ja",0.5,0) -> 0 | Y29: =IF($B$3="Ja",0.5,0) -> 0
A30: Lademenge | C30: =IF($B$3="Ja",VLOOKUP($B$19/$C$19,Lademenge!$A$4:$B$20,2),VLOOKUP($B$5/$C$5,Lademenge!$A$4:$B$20,2)) -> 3.8 | E30: =IF($B$3="Ja",VLOOKUP($B$19/$C$19,Lademenge!$A$4:$B$20,2),VLOOKUP($B$6/$C$6,Lademenge!$A$4:$B$20,2)) -> #DIV/0! | G30: =IF($B$3="Ja",VLOOKUP($B$19/$C$19,Lademenge!$A$4:$B$20,2),VLOOKUP($B$7/$C$7,Lademenge!$A$4:$B$20,2)) -> #DIV/0! | I30: =IF($B$3="Ja",VLOOKUP($B$19/$C$19,Lademenge!$A$4:$B$20,2),VLOOKUP($B$8/$C$8,Lademenge!$A$4:$B$20,2)) -> #DIV/0! | K30: =IF($B$3="Ja",VLOOKUP($B$19/$C$19,Lademenge!$A$4:$B$20,2),VLOOKUP($B$9/$C$9,Lademenge!$A$4:$B$20,2)) -> #DIV/0! | M30: =IF($B$3="Ja",VLOOKUP($B$19/$C$19,Lademenge!$A$4:$B$20,2),VLOOKUP($B$10/$C$10,Lademenge!$A$4:$B$20,2)) -> #DIV/0! | O30: =IF($B$3="Ja",VLOOKUP($B$19/$C$19,Lademenge!$A$4:$B$20,2),VLOOKUP($B$11/$C$11,Lademenge!$A$4:$B$20,2)) -> #DIV/0! | Q30: =IF($B$3="Ja",VLOOKUP($B$19/$C$19,Lademenge!$A$4:$B$20,2),VLOOKUP($B$12/$C$12,Lademenge!$A$4:$B$20,2)) -> #DIV/0! | S30: =IF($B$3="Ja",VLOOKUP($B$19/$C$19,Lademenge!$A$4:$B$20,2),VLOOKUP($B$13/$C$13,Lademenge!$A$4:$B$20,2)) -> #DIV/0! | U30: =IF($B$3="Ja",VLOOKUP($B$19/$C$19,Lademenge!$A$4:$B$20,2),VLOOKUP($B$14/$C$14,Lademenge!$A$4:$B$20,2)) -> #DIV/0! | W30: =IF($B$3="Ja",VLOOKUP($B$19/$C$19,Lademenge!$A$4:$B$20,2),VLOOKUP($B$15/$C$15,Lademenge!$A$4:$B$20,2)) -> #DIV/0! | Y30: =IF($B$3="Ja",VLOOKUP($B$19/$C$19,Lademenge!$A$4:$B$20,2),VLOOKUP($B$16/$C$16,Lademenge!$A$4:$B$20,2)) -> #DIV/0!
A31: Fettbezahlung | B31: =$D5 -> 0.04 | C31: =(B31-0.04)*600 -> 0 | D31: =$D6 -> 0 | E31: =(D31-0.04)*600 -> -24 | F31: =$D7 -> 0 | G31: =(F31-0.04)*600 -> -24 | H31: =$D8 -> 0 | I31: =(H31-0.04)*600 -> -24 | J31: =$D9 -> 0 | K31: =(J31-0.04)*600 -> -24 | L31: =$D10 -> 0 | M31: =(L31-0.04)*600 -> -24 | N31: =$D11 -> 0 | O31: =(N31-0.04)*600 -> -24 | P31: =$D12 -> 0 | Q31: =(P31-0.04)*600 -> -24 | R31: =$D13 -> 0 | S31: =(R31-0.04)*600 -> -24 | T31: =$D14 -> 0 | U31: =(T31-0.04)*600 -> -24 | V31: =$D15 -> 0 | W31: =(V31-0.04)*600 -> -24 | X31: =$D16 -> 0 | Y31: =(X31-0.04)*600 -> -24
A32: Eiweissbezahlung | B32: =$E5 -> 0.033 | C32: =(B32-0.033)*500 -> 0 | D32: =$E6 -> 0 | E32: =(D32-0.033)*500 -> -16.5 | F32: =$E7 -> 0 | G32: =(F32-0.033)*500 -> -16.5 | H32: =$E8 -> 0 | I32: =(H32-0.033)*500 -> -16.5 | J32: =$E9 -> 0 | K32: =(J32-0.033)*500 -> -16.5 | L32: =$E10 -> 0 | M32: =(L32-0.033)*500 -> -16.5 | N32: =$E11 -> 0 | O32: =(N32-0.033)*500 -> -16.5 | P32: =$E12 -> 0 | Q32: =(P32-0.033)*500 -> -16.5 | R32: =$E13 -> 0 | S32: =(R32-0.033)*500 -> -16.5 | T32: =$E14 -> 0 | U32: =(T32-0.033)*500 -> -16.5 | V32: =$E15 -> 0 | W32: =(V32-0.033)*500 -> -16.5 | X32: =$E16 -> 0 | Y32: =(X32-0.033)*500 -> -16.5
A33: Saisonaler Zuschlag/Abzug | E33: -4 | G33: -4 | I33: -4 | K33: -4 | O33: 4 | Q33: 4 | S33: 4 | U33: 4
A34: Diverses in Rp./kg | C34: -0.5 | M34: 0 | O34: 0 | Q34: =O34 -> 0 | S34: =Q34 -> 0 | W34: =U34 -> 0 | Y34: =W34 -> 0
A35: Korrektur Verkehrsmilchzulage | C35: -5 | E35: -5 | G35: -5 | I35: -5 | K35: -5 | M35: -5 | O35: -5 | Q35: -5 | S35: -5 | U35: -5 | W35: -5 | Y35: -5
A36: Beiträge Organisationen
A37: Beitrag Mittelland Milch | C37: -0.04 | E37: -0.04 | G37: -0.04 | I37: -0.04 | K37: -0.04 | M37: -0.04 | O37: -0.05 | Q37: -0.05 | S37: -0.05 | U37: -0.05 | W37: -0.05 | Y37: -0.05
A38: Beitrag SMP/SBV | C38: -0.17 | E38: -0.17 | G38: -0.17 | I38: -0.17 | K38: -0.17 | M38: -0.17 | O38: -0.17 | Q38: -0.17 | S38: -0.17 | U38: -0.17 | W38: -0.17 | Y38: -0.17
A39: Marketing SMP/SCM | C39: -0.725 | E39: -0.725 | G39: -0.725 | I39: -0.725 | K39: -0.725 | M39: -0.725 | O39: -0.725 | Q39: -0.725 | S39: -0.725 | U39: -0.725 | W39: -0.725 | Y39: -0.725
A40: Auszahlungspreis Emmi | C40: =SUM(C27:C39) -> 59.56 | E40: =SUM(E27:E39) -> #DIV/0! | G40: =SUM(G27:G39) -> #DIV/0! | I40: =SUM(I27:I39) -> #DIV/0! | K40: =SUM(K27:K39) -> #DIV/0! | M40: =SUM(M27:M39) -> #DIV/0! | O40: =SUM(O27:O39) -> #DIV/0! | Q40: =SUM(Q27:Q39) -> #DIV/0! | S40: =SUM(S27:S39) -> #DIV/0! | U40: =SUM(U27:U39) -> #DIV/0! | W40: =SUM(W27:W39) -> #DIV/0! | Y40: =SUM(Y27:Y39) -> #DIV/0! | Z40: =Z41/B17*100 -> #DIV/0!
A41: Auszahlungsbetrag | B41: =$B$5*$C$40/100 -> 11912 | D41: =$B$6*$E$40/100 -> #DIV/0! | F41: =$B$7*$G$40/100 -> #DIV/0! | H41: =$B$8*$I$40/100 -> #DIV/0! | J41: =$B$9*$K$40/100 -> #DIV/0! | L41: =$B$10*$M$40/100 -> #DIV/0! | N41: =$B$11*$O$40/100 -> #DIV/0! | P41: =$B$12*$Q$40/100 -> #DIV/0! | R41: =$B$13*$S$40/100 -> #DIV/0! | T41: =$B$14*$U$40/100 -> #DIV/0! | V41: =$B$15*$W$40/100 -> #DIV/0! | X41: =$B$16*$Y$40/100 -> #DIV/0! | Z41: =SUM(B41:Y41) -> #DIV/0!
A43: Bundeszulage für Verkehrsmilch | C43: 5 | E43: 5 | G43: 5 | I43: 5 | K43: 5 | M43: 5 | O43: 5 | Q43: 5 | S43: 5 | U43: 5 | W43: 5 | Y43: 5
...

Sheet Lademenge
A3: ab
A4: 0
A5: 350 | B5: 0.5
A6: 450 | B6: 1
A7: 550 | B7: 1.5
A8: 650 | B8: 2
A9: 750 | B9: 2.5
A10: 850 | B10: 3
A11: 950 | B11: 3.5
A12: 1250 | B12: 3.8
A13: 1500 | B13: 4.1
A14: 1750 | B14: 4.4
A15: 2000 | B15: 4.5
A16: 3000 | B16: 4.6
... A20: 10000 | B20: 5
